BEGIN:VCALENDAR
VERSION:2.0
PRODID:-//ChamberMaster//Event Calendar 2.0//EN
METHOD:PUBLISH
X-PUBLISHED-TTL:P3D
REFRESH-INTERVAL:P3D
CALSCALE:GREGORIAN
BEGIN:VEVENT
DTSTART;VALUE=DATE:20080925
DTEND;VALUE=DATE:20080926
TRANSP:TRANSPARENT
X-MICROSOFT-CDO-ALLDAYEVENT:TRUE
SUMMARY:West Coast Green Dinner: POSTPONED
DESCRIPTION:
X-ALT-DESC;FMTTYPE=text/html:
LOCATION:San Jose Hilton 300 Almaden Boulevard San Jose\, CA 95110
UID:e.9487.71
SEQUENCE:3
DTSTAMP:20260422T015318Z
URL:http://biabayarea.memberzone.com/events/details/west-coast-green-dinner-postponed-09-25-2008-71
END:VEVENT

END:VCALENDAR
