BEGIN:VCALENDAR
VERSION:2.0
PRODID:-//ChamberMaster//Event Calendar 2.0//EN
METHOD:PUBLISH
X-PUBLISHED-TTL:P3D
REFRESH-INTERVAL:P3D
CALSCALE:GREGORIAN
BEGIN:VEVENT
DTSTART;VALUE=DATE:20090507
DTEND;VALUE=DATE:20090508
TRANSP:TRANSPARENT
X-MICROSOFT-CDO-ALLDAYEVENT:TRUE
SUMMARY:Statewide Community Infrastructure Program
DESCRIPTION:
X-ALT-DESC;FMTTYPE=text/html:
LOCATION:
UID:e.9487.90
SEQUENCE:3
DTSTAMP:20260421T170654Z
URL:http://biabayarea.memberzone.com/events/details/statewide-community-infrastructure-program-05-07-2009-90
END:VEVENT

END:VCALENDAR
