BEGIN:VCALENDAR
VERSION:2.0
PRODID:-//ChamberMaster//Event Calendar 2.0//EN
METHOD:PUBLISH
X-PUBLISHED-TTL:P3D
REFRESH-INTERVAL:P3D
CALSCALE:GREGORIAN
BEGIN:VEVENT
DTSTART;VALUE=DATE:20081009
DTEND;VALUE=DATE:20081010
TRANSP:TRANSPARENT
X-MICROSOFT-CDO-ALLDAYEVENT:TRUE
SUMMARY:Southern Division. 2008 BBC Night - Building Better Communities
DESCRIPTION:
X-ALT-DESC;FMTTYPE=text/html:
LOCATION:San Jose City Hall Rotunda 200 East Santa Clara Street San Jose\, CA 95113
UID:e.9487.73
SEQUENCE:3
DTSTAMP:20260421T235516Z
URL:http://biabayarea.memberzone.com/events/details/southern-division-2008-bbc-night-building-better-communities-10-09-2008-73
END:VEVENT

END:VCALENDAR
