BEGIN:VCALENDAR
VERSION:2.0
PRODID:-//ChamberMaster//Event Calendar 2.0//EN
METHOD:PUBLISH
X-PUBLISHED-TTL:P3D
REFRESH-INTERVAL:P3D
CALSCALE:GREGORIAN
BEGIN:VEVENT
DTSTART;VALUE=DATE:20080312
DTEND;VALUE=DATE:20080313
TRANSP:TRANSPARENT
X-MICROSOFT-CDO-ALLDAYEVENT:TRUE
SUMMARY:Northern Division Dinner Meeting: BUILDERS NIGHT OR SURVIVORS NIGHT!
DESCRIPTION:
X-ALT-DESC;FMTTYPE=text/html:
LOCATION:3555 Round Barn Blvd Santa Rosa\, CA 95403
UID:e.9487.46
SEQUENCE:3
DTSTAMP:20260422T120322Z
URL:http://biabayarea.memberzone.com/events/details/northern-division-dinner-meeting-builders-night-or-survivors-night-03-12-2008-46
END:VEVENT

END:VCALENDAR
