BEGIN:VCALENDAR
VERSION:2.0
PRODID:-//ChamberMaster//Event Calendar 2.0//EN
METHOD:PUBLISH
X-PUBLISHED-TTL:P3D
REFRESH-INTERVAL:P3D
CALSCALE:GREGORIAN
BEGIN:VEVENT
DTSTART;VALUE=DATE:20071010
DTEND;VALUE=DATE:20071011
TRANSP:TRANSPARENT
X-MICROSOFT-CDO-ALLDAYEVENT:TRUE
SUMMARY:Northern Division City Managers Night
DESCRIPTION:
X-ALT-DESC;FMTTYPE=text/html:
LOCATION:3555 Round Barn Blvd Santa Rosa\, CA 95403
UID:e.9487.30
SEQUENCE:3
DTSTAMP:20260423T010647Z
URL:http://biabayarea.memberzone.com/events/details/northern-division-city-managers-night-10-10-2007-30
END:VEVENT

END:VCALENDAR
