BEGIN:VCALENDAR
VERSION:2.0
PRODID:-//ChamberMaster//Event Calendar 2.0//EN
METHOD:PUBLISH
X-PUBLISHED-TTL:P3D
REFRESH-INTERVAL:P3D
CALSCALE:GREGORIAN
BEGIN:VEVENT
DTSTART;VALUE=DATE:20080426
DTEND;VALUE=DATE:20080427
TRANSP:TRANSPARENT
X-MICROSOFT-CDO-ALLDAYEVENT:TRUE
SUMMARY:MAME 31
DESCRIPTION:
X-ALT-DESC;FMTTYPE=text/html:
LOCATION:
UID:e.9487.51
SEQUENCE:3
DTSTAMP:20260422T102020Z
URL:http://biabayarea.memberzone.com/events/details/mame-31-04-26-2008-51
END:VEVENT

END:VCALENDAR
