BEGIN:VCALENDAR
VERSION:2.0
PRODID:-//ChamberMaster//Event Calendar 2.0//EN
METHOD:PUBLISH
X-PUBLISHED-TTL:P3D
REFRESH-INTERVAL:P3D
CALSCALE:GREGORIAN
BEGIN:VEVENT
DTSTART;VALUE=DATE:20080429
DTEND;VALUE=DATE:20080430
TRANSP:TRANSPARENT
X-MICROSOFT-CDO-ALLDAYEVENT:TRUE
SUMMARY:Intro to the 50+ Housing Council
DESCRIPTION:
X-ALT-DESC;FMTTYPE=text/html:
LOCATION:200 Porter Drive Ste. 200 San Ramon\, CA 94583
UID:e.9487.53
SEQUENCE:3
DTSTAMP:20260422T102225Z
URL:http://biabayarea.memberzone.com/events/details/intro-to-the-50-housing-council-04-29-2008-53
END:VEVENT

END:VCALENDAR
