BEGIN:VCALENDAR
VERSION:2.0
PRODID:-//ChamberMaster//Event Calendar 2.0//EN
METHOD:PUBLISH
X-PUBLISHED-TTL:P3D
REFRESH-INTERVAL:P3D
CALSCALE:GREGORIAN
BEGIN:VEVENT
DTSTART;VALUE=DATE:20090924
DTEND;VALUE=DATE:20090925
TRANSP:TRANSPARENT
X-MICROSOFT-CDO-ALLDAYEVENT:TRUE
SUMMARY:HBANC Educational Series: Environmental Forum
DESCRIPTION:
X-ALT-DESC;FMTTYPE=text/html:
LOCATION:P.O. Box 5160 200 Porter Drive\, Suite 200 San Ramon\, CA 94583
UID:e.9487.103
SEQUENCE:3
DTSTAMP:20260421T033823Z
URL:http://biabayarea.memberzone.com/events/details/hbanc-educational-series-environmental-forum-09-24-2009-103
END:VEVENT

END:VCALENDAR
