BEGIN:VCALENDAR
VERSION:2.0
PRODID:-//ChamberMaster//Event Calendar 2.0//EN
METHOD:PUBLISH
X-PUBLISHED-TTL:P3D
REFRESH-INTERVAL:P3D
CALSCALE:GREGORIAN
BEGIN:VEVENT
DTSTART;VALUE=DATE:20071009
DTEND;VALUE=DATE:20071010
TRANSP:TRANSPARENT
X-MICROSOFT-CDO-ALLDAYEVENT:TRUE
SUMMARY:Green Building Breakfast Seminar
DESCRIPTION:
X-ALT-DESC;FMTTYPE=text/html:
LOCATION:The Bridges Golf Course 9000 S. Gale Ridge Rd San Ramon\, CA 94582
UID:e.9487.29
SEQUENCE:3
DTSTAMP:20260422T233025Z
URL:http://biabayarea.memberzone.com/events/details/green-building-breakfast-seminar-10-09-2007-29
END:VEVENT

END:VCALENDAR
