BEGIN:VCALENDAR
VERSION:2.0
PRODID:-//ChamberMaster//Event Calendar 2.0//EN
METHOD:PUBLISH
X-PUBLISHED-TTL:P3D
REFRESH-INTERVAL:P3D
CALSCALE:GREGORIAN
BEGIN:VEVENT
DTSTART;VALUE=DATE:20100712
DTEND;VALUE=DATE:20100713
TRANSP:TRANSPARENT
X-MICROSOFT-CDO-ALLDAYEVENT:TRUE
SUMMARY:Golf Tournament at Ruby Hill - 07/12/2010
DESCRIPTION:
X-ALT-DESC;FMTTYPE=text/html:
LOCATION:3400 West Ruby Hill Drive Pleasanton\, CA 94513
UID:e.9487.122
SEQUENCE:3
DTSTAMP:20260420T071734Z
URL:http://biabayarea.memberzone.com/events/details/golf-tournament-at-ruby-hill-07-12-2010-07-12-2010-122
END:VEVENT

END:VCALENDAR
