BEGIN:VCALENDAR
VERSION:2.0
PRODID:-//ChamberMaster//Event Calendar 2.0//EN
METHOD:PUBLISH
X-PUBLISHED-TTL:P3D
REFRESH-INTERVAL:P3D
CALSCALE:GREGORIAN
BEGIN:VEVENT
DTSTART;VALUE=DATE:20080229
DTEND;VALUE=DATE:20080301
TRANSP:TRANSPARENT
X-MICROSOFT-CDO-ALLDAYEVENT:TRUE
SUMMARY:DRE Committee Breakfast - 02/29/2008
DESCRIPTION:
X-ALT-DESC;FMTTYPE=text/html:
LOCATION:San Ramon Marriott 2600 Bishop Drive San Ramon\, CA 94583
UID:e.9487.44
SEQUENCE:3
DTSTAMP:20260422T134429Z
URL:http://biabayarea.memberzone.com/events/details/dre-committee-breakfast-02-29-2008-02-29-2008-44
END:VEVENT

END:VCALENDAR
