BEGIN:VCALENDAR
VERSION:2.0
PRODID:-//ChamberMaster//Event Calendar 2.0//EN
METHOD:PUBLISH
X-PUBLISHED-TTL:P3D
REFRESH-INTERVAL:P3D
CALSCALE:GREGORIAN
BEGIN:VEVENT
DTSTART;VALUE=DATE:20101105
DTEND;VALUE=DATE:20101106
TRANSP:TRANSPARENT
X-MICROSOFT-CDO-ALLDAYEVENT:TRUE
SUMMARY:CHF Celebrity Waiter Event
DESCRIPTION:
X-ALT-DESC;FMTTYPE=text/html:
LOCATION:11600 Shannon Avenue Dubliin\, CA 94568
UID:e.9487.129
SEQUENCE:3
DTSTAMP:20260419T171504Z
URL:http://biabayarea.memberzone.com/events/details/chf-celebrity-waiter-event-11-05-2010-129
END:VEVENT

END:VCALENDAR
