BEGIN:VCALENDAR
VERSION:2.0
PRODID:-//ChamberMaster//Event Calendar 2.0//EN
METHOD:PUBLISH
X-PUBLISHED-TTL:P3D
REFRESH-INTERVAL:P3D
CALSCALE:GREGORIAN
BEGIN:VEVENT
DTSTART;VALUE=DATE:20100325
DTEND;VALUE=DATE:20100326
TRANSP:TRANSPARENT
X-MICROSOFT-CDO-ALLDAYEVENT:TRUE
SUMMARY:Browsers to Buyers - Afternoon Session
DESCRIPTION:
X-ALT-DESC;FMTTYPE=text/html:
LOCATION:101 Ygnacio Valley Road Suite 400 Walnut Creek\, CA 94596
UID:e.9487.115
SEQUENCE:3
DTSTAMP:20260420T204855Z
URL:http://biabayarea.memberzone.com/events/details/browsers-to-buyers-afternoon-session-03-25-2010-115
END:VEVENT

END:VCALENDAR
