BEGIN:VCALENDAR
VERSION:2.0
PRODID:-//ChamberMaster//Event Calendar 2.0//EN
METHOD:PUBLISH
X-PUBLISHED-TTL:P3D
REFRESH-INTERVAL:P3D
CALSCALE:GREGORIAN
BEGIN:VEVENT
DTSTART;VALUE=DATE:20100712
DTEND;VALUE=DATE:20100713
TRANSP:TRANSPARENT
X-MICROSOFT-CDO-ALLDAYEVENT:TRUE
SUMMARY:BBQ & Reception at Ruby Hill - 07/12/2010
DESCRIPTION:
X-ALT-DESC;FMTTYPE=text/html:
LOCATION:3404 West Ruby Hill Drive Plesanton\, CA 94566
UID:e.9487.123
SEQUENCE:3
DTSTAMP:20260420T071625Z
URL:http://biabayarea.memberzone.com/events/details/bbq-reception-at-ruby-hill-07-12-2010-07-12-2010-123
END:VEVENT

END:VCALENDAR
