BEGIN:VCALENDAR
VERSION:2.0
PRODID:-//ChamberMaster//Event Calendar 2.0//EN
METHOD:PUBLISH
X-PUBLISHED-TTL:P3D
REFRESH-INTERVAL:P3D
CALSCALE:GREGORIAN
BEGIN:VEVENT
DTSTART;VALUE=DATE:20100722
DTEND;VALUE=DATE:20100723
TRANSP:TRANSPARENT
X-MICROSOFT-CDO-ALLDAYEVENT:TRUE
SUMMARY:Art & Wine SoirÃƒÂ©e - 07/22/2010
DESCRIPTION:
X-ALT-DESC;FMTTYPE=text/html:
LOCATION:1333 N. California Walnut Creek\, CA 94596
UID:e.9487.124
SEQUENCE:3
DTSTAMP:20260420T071734Z
URL:http://biabayarea.memberzone.com/events/details/art-wine-soir&#227;ƒ&#226;-e-07-22-2010-07-22-2010-124
END:VEVENT

END:VCALENDAR
