BEGIN:VCALENDAR
VERSION:2.0
PRODID:-//ChamberMaster//Event Calendar 2.0//EN
METHOD:PUBLISH
X-PUBLISHED-TTL:P3D
REFRESH-INTERVAL:P3D
CALSCALE:GREGORIAN
BEGIN:VEVENT
DTSTART;VALUE=DATE:20070613
DTEND;VALUE=DATE:20070614
TRANSP:TRANSPARENT
X-MICROSOFT-CDO-ALLDAYEVENT:TRUE
SUMMARY:4012 6/13/2007 N. Division GA Luncheon
DESCRIPTION:
X-ALT-DESC;FMTTYPE=text/html:
LOCATION:3555 Round Barn Blvd. Santa Rosa\, CA 95403
UID:e.9487.13
SEQUENCE:3
DTSTAMP:20260423T071202Z
URL:http://biabayarea.memberzone.com/events/details/4012-6-13-2007-n-division-ga-luncheon-06-13-2007-13
END:VEVENT

END:VCALENDAR
