BEGIN:VCALENDAR
VERSION:2.0
PRODID:-//ChamberMaster//Event Calendar 2.0//EN
METHOD:PUBLISH
X-PUBLISHED-TTL:P3D
REFRESH-INTERVAL:P3D
CALSCALE:GREGORIAN
BEGIN:VEVENT
DTSTART;VALUE=DATE:20070425
DTEND;VALUE=DATE:20070426
TRANSP:TRANSPARENT
X-MICROSOFT-CDO-ALLDAYEVENT:TRUE
SUMMARY:4/25/07 Southern Division Dinner with Lynn Jacobs
DESCRIPTION:
X-ALT-DESC;FMTTYPE=text/html:
LOCATION:302 S. Market St San Jose\, CA 95113
UID:e.9487.4
SEQUENCE:3
DTSTAMP:20260423T113204Z
URL:http://biabayarea.memberzone.com/events/details/4-25-07-southern-division-dinner-with-lynn-jacobs-04-25-2007-4
END:VEVENT

END:VCALENDAR
